BEGIN:VCALENDAR
VERSION:2.0
PRODID:-//pretix//pretix.eu//
BEGIN:VTIMEZONE
TZID:Europe/Berlin
BEGIN:STANDARD
DTSTART:20001029T040000
RRULE:FREQ=YEARLY;BYDAY=-1SU;BYMONTH=10
TZNAME:CET
TZOFFSETFROM:+0200
TZOFFSETTO:+0100
END:STANDARD
BEGIN:DAYLIGHT
DTSTART:20000326T030000
RRULE:FREQ=YEARLY;BYDAY=-1SU;BYMONTH=3
TZNAME:CEST
TZOFFSETFROM:+0100
TZOFFSETTO:+0200
END:DAYLIGHT
END:VTIMEZONE
BEGIN:VEVENT
UID:pretix-khs-NoCover-4-0@tickets.kulturhalle-stockheim.de
DTSTART;TZID=Europe/Berlin:20260429T200000
DTEND;TZID=Europe/Berlin:20260429T210000
DESCRIPTION:Tickets: https://tickets.kulturhalle-stockheim.de/NoCover-4/\nE
 inlass: 29.04.2026 19:30\nVeranstalter: Kulturhalle Stockheim
DTSTAMP:20260419T121252Z
LOCATION:Kulturhalle Stockheim
SUMMARY:NoCover.  4. Ausgabe mit der Ibo Knöpp Band
END:VEVENT
END:VCALENDAR
