BEGIN:VCALENDAR
VERSION:2.0
PRODID:-//pretix//pretix.eu//
BEGIN:VTIMEZONE
TZID:Europe/Berlin
BEGIN:STANDARD
DTSTART:20001029T040000
RRULE:FREQ=YEARLY;BYDAY=-1SU;BYMONTH=10
TZNAME:CET
TZOFFSETFROM:+0200
TZOFFSETTO:+0100
END:STANDARD
BEGIN:DAYLIGHT
DTSTART:20000326T030000
RRULE:FREQ=YEARLY;BYDAY=-1SU;BYMONTH=3
TZNAME:CEST
TZOFFSETFROM:+0100
TZOFFSETTO:+0200
END:DAYLIGHT
END:VTIMEZONE
BEGIN:VEVENT
UID:pretix-khs-genesis-0@tickets.kulturhalle-stockheim.de
DTSTART;TZID=Europe/Berlin:20260424T201500
DTEND;TZID=Europe/Berlin:20260424T211500
DESCRIPTION:Tickets: https://tickets.kulturhalle-stockheim.de/genesis/\nEin
 lass: 24.04.2026 19:30\nVeranstalter: Kulturhalle Stockheim
DTSTAMP:20260419T120814Z
LOCATION:Kulturhalle Stockheim
SUMMARY:Beyond Genesis
END:VEVENT
END:VCALENDAR
